BEGIN:VCALENDAR
VERSION:2.0
PRODID:-//Texas Western Model Railroad Club - ECPv6.15.20//NONSGML v1.0//EN
CALSCALE:GREGORIAN
METHOD:PUBLISH
X-WR-CALNAME:Texas Western Model Railroad Club
X-ORIGINAL-URL:https://www.twmrc.org
X-WR-CALDESC:Events for Texas Western Model Railroad Club
REFRESH-INTERVAL;VALUE=DURATION:PT1H
X-Robots-Tag:noindex
X-PUBLISHED-TTL:PT1H
BEGIN:VTIMEZONE
TZID:America/Chicago
BEGIN:DAYLIGHT
TZOFFSETFROM:-0600
TZOFFSETTO:-0500
TZNAME:CDT
DTSTART:20250309T080000
END:DAYLIGHT
BEGIN:STANDARD
TZOFFSETFROM:-0500
TZOFFSETTO:-0600
TZNAME:CST
DTSTART:20251102T070000
END:STANDARD
BEGIN:DAYLIGHT
TZOFFSETFROM:-0600
TZOFFSETTO:-0500
TZNAME:CDT
DTSTART:20260308T080000
END:DAYLIGHT
BEGIN:STANDARD
TZOFFSETFROM:-0500
TZOFFSETTO:-0600
TZNAME:CST
DTSTART:20261101T070000
END:STANDARD
BEGIN:DAYLIGHT
TZOFFSETFROM:-0600
TZOFFSETTO:-0500
TZNAME:CDT
DTSTART:20270314T080000
END:DAYLIGHT
BEGIN:STANDARD
TZOFFSETFROM:-0500
TZOFFSETTO:-0600
TZNAME:CST
DTSTART:20271107T070000
END:STANDARD
END:VTIMEZONE
BEGIN:VEVENT
DTSTART;TZID=America/Chicago:20260423T190000
DTEND;TZID=America/Chicago:20260423T210000
DTSTAMP:20260423T102825
CREATED:20180529T125129Z
LAST-MODIFIED:20250806T231727Z
UID:18050-1776970800-1776978000@www.twmrc.org
SUMMARY:Texas Western Work Night
DESCRIPTION:The Texas Western Model Railroad Club is open to visitors\nThursday evening from 7:00 PM to 9:00 PM. Stop on by\nprospective members\, and just folks interested in checking\nus out. All guests are welcome! \nCome spend an evening with like-minded members and\ntake a walk around to see the progress we are making in\nbuilding our historic\, prototypical layout!
URL:https://www.twmrc.org/event/texas-western-work-night-2025-10-02-2025-10-09/2026-04-23/
LOCATION:Texas Western Clubhouse\, 6808 Forest Hill Drive\, Forest Hill\, TX\, 76140\, United States
CATEGORIES:Open House,Work Nights
ORGANIZER;CN="David Crumpton":MAILTO:ceo@twmrc.org
GEO:32.6557454;-97.2703857
X-APPLE-STRUCTURED-LOCATION;VALUE=URI;X-ADDRESS=Texas Western Clubhouse 6808 Forest Hill Drive Forest Hill TX 76140 United States;X-APPLE-RADIUS=500;X-TITLE=6808 Forest Hill Drive:geo:-97.2703857,32.6557454
END:VEVENT
END:VCALENDAR