BEGIN:VCALENDAR
VERSION:2.0
PRODID:-//Texas Western Model Railroad Club - ECPv6.15.20//NONSGML v1.0//EN
CALSCALE:GREGORIAN
METHOD:PUBLISH
X-WR-CALNAME:Texas Western Model Railroad Club
X-ORIGINAL-URL:https://www.twmrc.org
X-WR-CALDESC:Events for Texas Western Model Railroad Club
REFRESH-INTERVAL;VALUE=DURATION:PT1H
X-Robots-Tag:noindex
X-PUBLISHED-TTL:PT1H
BEGIN:VTIMEZONE
TZID:America/Chicago
BEGIN:DAYLIGHT
TZOFFSETFROM:-0600
TZOFFSETTO:-0500
TZNAME:CDT
DTSTART:20240310T080000
END:DAYLIGHT
BEGIN:STANDARD
TZOFFSETFROM:-0500
TZOFFSETTO:-0600
TZNAME:CST
DTSTART:20241103T070000
END:STANDARD
BEGIN:DAYLIGHT
TZOFFSETFROM:-0600
TZOFFSETTO:-0500
TZNAME:CDT
DTSTART:20250309T080000
END:DAYLIGHT
BEGIN:STANDARD
TZOFFSETFROM:-0500
TZOFFSETTO:-0600
TZNAME:CST
DTSTART:20251102T070000
END:STANDARD
BEGIN:DAYLIGHT
TZOFFSETFROM:-0600
TZOFFSETTO:-0500
TZNAME:CDT
DTSTART:20260308T080000
END:DAYLIGHT
BEGIN:STANDARD
TZOFFSETFROM:-0500
TZOFFSETTO:-0600
TZNAME:CST
DTSTART:20261101T070000
END:STANDARD
BEGIN:DAYLIGHT
TZOFFSETFROM:-0600
TZOFFSETTO:-0500
TZNAME:CDT
DTSTART:20270314T080000
END:DAYLIGHT
BEGIN:STANDARD
TZOFFSETFROM:-0500
TZOFFSETTO:-0600
TZNAME:CST
DTSTART:20271107T070000
END:STANDARD
END:VTIMEZONE
BEGIN:VEVENT
DTSTART;TZID=America/Chicago:20260416T190000
DTEND;TZID=America/Chicago:20260416T210000
DTSTAMP:20260423T120300
CREATED:20180529T125129Z
LAST-MODIFIED:20250806T231727Z
UID:18048-1776366000-1776373200@www.twmrc.org
SUMMARY:Texas Western Work Night
DESCRIPTION:The Texas Western Model Railroad Club is open to visitors\nThursday evening from 7:00 PM to 9:00 PM. Stop on by\nprospective members\, and just folks interested in checking\nus out. All guests are welcome! \nCome spend an evening with like-minded members and\ntake a walk around to see the progress we are making in\nbuilding our historic\, prototypical layout!
URL:https://www.twmrc.org/event/texas-western-work-night-2025-10-02-2025-10-09/2026-04-16/
LOCATION:Texas Western Clubhouse\, 6808 Forest Hill Drive\, Forest Hill\, TX\, 76140\, United States
CATEGORIES:Open House,Work Nights
ORGANIZER;CN="David Crumpton":MAILTO:ceo@twmrc.org
GEO:32.6557454;-97.2703857
X-APPLE-STRUCTURED-LOCATION;VALUE=URI;X-ADDRESS=Texas Western Clubhouse 6808 Forest Hill Drive Forest Hill TX 76140 United States;X-APPLE-RADIUS=500;X-TITLE=6808 Forest Hill Drive:geo:-97.2703857,32.6557454
END:VEVENT
BEGIN:VEVENT
DTSTART;TZID=America/Chicago:20260409T190000
DTEND;TZID=America/Chicago:20260409T210000
DTSTAMP:20260423T120300
CREATED:20180529T125129Z
LAST-MODIFIED:20250806T231727Z
UID:18047-1775761200-1775768400@www.twmrc.org
SUMMARY:Texas Western Work Night
DESCRIPTION:The Texas Western Model Railroad Club is open to visitors\nThursday evening from 7:00 PM to 9:00 PM. Stop on by\nprospective members\, and just folks interested in checking\nus out. All guests are welcome! \nCome spend an evening with like-minded members and\ntake a walk around to see the progress we are making in\nbuilding our historic\, prototypical layout!
URL:https://www.twmrc.org/event/texas-western-work-night-2025-10-02-2025-10-09/2026-04-09/
LOCATION:Texas Western Clubhouse\, 6808 Forest Hill Drive\, Forest Hill\, TX\, 76140\, United States
CATEGORIES:Open House,Work Nights
ORGANIZER;CN="David Crumpton":MAILTO:ceo@twmrc.org
GEO:32.6557454;-97.2703857
X-APPLE-STRUCTURED-LOCATION;VALUE=URI;X-ADDRESS=Texas Western Clubhouse 6808 Forest Hill Drive Forest Hill TX 76140 United States;X-APPLE-RADIUS=500;X-TITLE=6808 Forest Hill Drive:geo:-97.2703857,32.6557454
END:VEVENT
BEGIN:VEVENT
DTSTART;TZID=America/Chicago:20260326T190000
DTEND;TZID=America/Chicago:20260326T210000
DTSTAMP:20260423T120300
CREATED:20180529T125129Z
LAST-MODIFIED:20250806T231727Z
UID:18031-1774551600-1774558800@www.twmrc.org
SUMMARY:Texas Western Work Night
DESCRIPTION:The Texas Western Model Railroad Club is open to visitors\nThursday evening from 7:00 PM to 9:00 PM. Stop on by\nprospective members\, and just folks interested in checking\nus out. All guests are welcome! \nCome spend an evening with like-minded members and\ntake a walk around to see the progress we are making in\nbuilding our historic\, prototypical layout!
URL:https://www.twmrc.org/event/texas-western-work-night-2025-10-02-2025-10-09/2026-03-26/
LOCATION:Texas Western Clubhouse\, 6808 Forest Hill Drive\, Forest Hill\, TX\, 76140\, United States
CATEGORIES:Open House,Work Nights
ORGANIZER;CN="David Crumpton":MAILTO:ceo@twmrc.org
GEO:32.6557454;-97.2703857
X-APPLE-STRUCTURED-LOCATION;VALUE=URI;X-ADDRESS=Texas Western Clubhouse 6808 Forest Hill Drive Forest Hill TX 76140 United States;X-APPLE-RADIUS=500;X-TITLE=6808 Forest Hill Drive:geo:-97.2703857,32.6557454
END:VEVENT
BEGIN:VEVENT
DTSTART;TZID=America/Chicago:20260319T190000
DTEND;TZID=America/Chicago:20260319T210000
DTSTAMP:20260423T120300
CREATED:20180529T125129Z
LAST-MODIFIED:20250806T231727Z
UID:17930-1773946800-1773954000@www.twmrc.org
SUMMARY:Texas Western Work Night
DESCRIPTION:The Texas Western Model Railroad Club is open to visitors\nThursday evening from 7:00 PM to 9:00 PM. Stop on by\nprospective members\, and just folks interested in checking\nus out. All guests are welcome! \nCome spend an evening with like-minded members and\ntake a walk around to see the progress we are making in\nbuilding our historic\, prototypical layout!
URL:https://www.twmrc.org/event/texas-western-work-night-2025-10-02-2025-10-09/2026-03-19/
LOCATION:Texas Western Clubhouse\, 6808 Forest Hill Drive\, Forest Hill\, TX\, 76140\, United States
CATEGORIES:Open House,Work Nights
ORGANIZER;CN="David Crumpton":MAILTO:ceo@twmrc.org
GEO:32.6557454;-97.2703857
X-APPLE-STRUCTURED-LOCATION;VALUE=URI;X-ADDRESS=Texas Western Clubhouse 6808 Forest Hill Drive Forest Hill TX 76140 United States;X-APPLE-RADIUS=500;X-TITLE=6808 Forest Hill Drive:geo:-97.2703857,32.6557454
END:VEVENT
BEGIN:VEVENT
DTSTART;TZID=America/Chicago:20260312T190000
DTEND;TZID=America/Chicago:20260312T210000
DTSTAMP:20260423T120300
CREATED:20180529T125129Z
LAST-MODIFIED:20250806T231727Z
UID:17929-1773342000-1773349200@www.twmrc.org
SUMMARY:Texas Western Work Night
DESCRIPTION:The Texas Western Model Railroad Club is open to visitors\nThursday evening from 7:00 PM to 9:00 PM. Stop on by\nprospective members\, and just folks interested in checking\nus out. All guests are welcome! \nCome spend an evening with like-minded members and\ntake a walk around to see the progress we are making in\nbuilding our historic\, prototypical layout!
URL:https://www.twmrc.org/event/texas-western-work-night-2025-10-02-2025-10-09/2026-03-12/
LOCATION:Texas Western Clubhouse\, 6808 Forest Hill Drive\, Forest Hill\, TX\, 76140\, United States
CATEGORIES:Open House,Work Nights
ORGANIZER;CN="David Crumpton":MAILTO:ceo@twmrc.org
GEO:32.6557454;-97.2703857
X-APPLE-STRUCTURED-LOCATION;VALUE=URI;X-ADDRESS=Texas Western Clubhouse 6808 Forest Hill Drive Forest Hill TX 76140 United States;X-APPLE-RADIUS=500;X-TITLE=6808 Forest Hill Drive:geo:-97.2703857,32.6557454
END:VEVENT
BEGIN:VEVENT
DTSTART;TZID=America/Chicago:20260226T190000
DTEND;TZID=America/Chicago:20260226T210000
DTSTAMP:20260423T120300
CREATED:20180529T125129Z
LAST-MODIFIED:20250806T231727Z
UID:17915-1772132400-1772139600@www.twmrc.org
SUMMARY:Texas Western Work Night
DESCRIPTION:The Texas Western Model Railroad Club is open to visitors\nThursday evening from 7:00 PM to 9:00 PM. Stop on by\nprospective members\, and just folks interested in checking\nus out. All guests are welcome! \nCome spend an evening with like-minded members and\ntake a walk around to see the progress we are making in\nbuilding our historic\, prototypical layout!
URL:https://www.twmrc.org/event/texas-western-work-night-2025-10-02-2025-10-09/2026-02-26/
LOCATION:Texas Western Clubhouse\, 6808 Forest Hill Drive\, Forest Hill\, TX\, 76140\, United States
CATEGORIES:Open House,Work Nights
ORGANIZER;CN="David Crumpton":MAILTO:ceo@twmrc.org
GEO:32.6557454;-97.2703857
X-APPLE-STRUCTURED-LOCATION;VALUE=URI;X-ADDRESS=Texas Western Clubhouse 6808 Forest Hill Drive Forest Hill TX 76140 United States;X-APPLE-RADIUS=500;X-TITLE=6808 Forest Hill Drive:geo:-97.2703857,32.6557454
END:VEVENT
BEGIN:VEVENT
DTSTART;TZID=America/Chicago:20260219T190000
DTEND;TZID=America/Chicago:20260219T210000
DTSTAMP:20260423T120300
CREATED:20180529T125129Z
LAST-MODIFIED:20250806T231727Z
UID:17913-1771527600-1771534800@www.twmrc.org
SUMMARY:Texas Western Work Night
DESCRIPTION:The Texas Western Model Railroad Club is open to visitors\nThursday evening from 7:00 PM to 9:00 PM. Stop on by\nprospective members\, and just folks interested in checking\nus out. All guests are welcome! \nCome spend an evening with like-minded members and\ntake a walk around to see the progress we are making in\nbuilding our historic\, prototypical layout!
URL:https://www.twmrc.org/event/texas-western-work-night-2025-10-02-2025-10-09/2026-02-19/
LOCATION:Texas Western Clubhouse\, 6808 Forest Hill Drive\, Forest Hill\, TX\, 76140\, United States
CATEGORIES:Open House,Work Nights
ORGANIZER;CN="David Crumpton":MAILTO:ceo@twmrc.org
GEO:32.6557454;-97.2703857
X-APPLE-STRUCTURED-LOCATION;VALUE=URI;X-ADDRESS=Texas Western Clubhouse 6808 Forest Hill Drive Forest Hill TX 76140 United States;X-APPLE-RADIUS=500;X-TITLE=6808 Forest Hill Drive:geo:-97.2703857,32.6557454
END:VEVENT
BEGIN:VEVENT
DTSTART;TZID=America/Chicago:20260212T190000
DTEND;TZID=America/Chicago:20260212T210000
DTSTAMP:20260423T120300
CREATED:20180529T125129Z
LAST-MODIFIED:20250806T231727Z
UID:17897-1770922800-1770930000@www.twmrc.org
SUMMARY:Texas Western Work Night
DESCRIPTION:The Texas Western Model Railroad Club is open to visitors\nThursday evening from 7:00 PM to 9:00 PM. Stop on by\nprospective members\, and just folks interested in checking\nus out. All guests are welcome! \nCome spend an evening with like-minded members and\ntake a walk around to see the progress we are making in\nbuilding our historic\, prototypical layout!
URL:https://www.twmrc.org/event/texas-western-work-night-2025-10-02-2025-10-09/2026-02-12/
LOCATION:Texas Western Clubhouse\, 6808 Forest Hill Drive\, Forest Hill\, TX\, 76140\, United States
CATEGORIES:Open House,Work Nights
ORGANIZER;CN="David Crumpton":MAILTO:ceo@twmrc.org
GEO:32.6557454;-97.2703857
X-APPLE-STRUCTURED-LOCATION;VALUE=URI;X-ADDRESS=Texas Western Clubhouse 6808 Forest Hill Drive Forest Hill TX 76140 United States;X-APPLE-RADIUS=500;X-TITLE=6808 Forest Hill Drive:geo:-97.2703857,32.6557454
END:VEVENT
BEGIN:VEVENT
DTSTART;TZID=America/Chicago:20260129T190000
DTEND;TZID=America/Chicago:20260129T210000
DTSTAMP:20260423T120300
CREATED:20180529T125129Z
LAST-MODIFIED:20250806T231727Z
UID:17847-1769713200-1769720400@www.twmrc.org
SUMMARY:Texas Western Work Night
DESCRIPTION:The Texas Western Model Railroad Club is open to visitors\nThursday evening from 7:00 PM to 9:00 PM. Stop on by\nprospective members\, and just folks interested in checking\nus out. All guests are welcome! \nCome spend an evening with like-minded members and\ntake a walk around to see the progress we are making in\nbuilding our historic\, prototypical layout!
URL:https://www.twmrc.org/event/texas-western-work-night-2025-10-02-2025-10-09/2026-01-29/
LOCATION:Texas Western Clubhouse\, 6808 Forest Hill Drive\, Forest Hill\, TX\, 76140\, United States
CATEGORIES:Open House,Work Nights
ORGANIZER;CN="David Crumpton":MAILTO:ceo@twmrc.org
GEO:32.6557454;-97.2703857
X-APPLE-STRUCTURED-LOCATION;VALUE=URI;X-ADDRESS=Texas Western Clubhouse 6808 Forest Hill Drive Forest Hill TX 76140 United States;X-APPLE-RADIUS=500;X-TITLE=6808 Forest Hill Drive:geo:-97.2703857,32.6557454
END:VEVENT
BEGIN:VEVENT
DTSTART;TZID=America/Chicago:20260122T190000
DTEND;TZID=America/Chicago:20260122T210000
DTSTAMP:20260423T120300
CREATED:20180529T125129Z
LAST-MODIFIED:20250806T231727Z
UID:17825-1769108400-1769115600@www.twmrc.org
SUMMARY:Texas Western Work Night
DESCRIPTION:The Texas Western Model Railroad Club is open to visitors\nThursday evening from 7:00 PM to 9:00 PM. Stop on by\nprospective members\, and just folks interested in checking\nus out. All guests are welcome! \nCome spend an evening with like-minded members and\ntake a walk around to see the progress we are making in\nbuilding our historic\, prototypical layout!
URL:https://www.twmrc.org/event/texas-western-work-night-2025-10-02-2025-10-09/2026-01-22/
LOCATION:Texas Western Clubhouse\, 6808 Forest Hill Drive\, Forest Hill\, TX\, 76140\, United States
CATEGORIES:Open House,Work Nights
ORGANIZER;CN="David Crumpton":MAILTO:ceo@twmrc.org
GEO:32.6557454;-97.2703857
X-APPLE-STRUCTURED-LOCATION;VALUE=URI;X-ADDRESS=Texas Western Clubhouse 6808 Forest Hill Drive Forest Hill TX 76140 United States;X-APPLE-RADIUS=500;X-TITLE=6808 Forest Hill Drive:geo:-97.2703857,32.6557454
END:VEVENT
BEGIN:VEVENT
DTSTART;TZID=America/Chicago:20260115T190000
DTEND;TZID=America/Chicago:20260115T210000
DTSTAMP:20260423T120300
CREATED:20180529T125129Z
LAST-MODIFIED:20250806T231727Z
UID:17824-1768503600-1768510800@www.twmrc.org
SUMMARY:Texas Western Work Night
DESCRIPTION:The Texas Western Model Railroad Club is open to visitors\nThursday evening from 7:00 PM to 9:00 PM. Stop on by\nprospective members\, and just folks interested in checking\nus out. All guests are welcome! \nCome spend an evening with like-minded members and\ntake a walk around to see the progress we are making in\nbuilding our historic\, prototypical layout!
URL:https://www.twmrc.org/event/texas-western-work-night-2025-10-02-2025-10-09/2026-01-15/
LOCATION:Texas Western Clubhouse\, 6808 Forest Hill Drive\, Forest Hill\, TX\, 76140\, United States
CATEGORIES:Open House,Work Nights
ORGANIZER;CN="David Crumpton":MAILTO:ceo@twmrc.org
GEO:32.6557454;-97.2703857
X-APPLE-STRUCTURED-LOCATION;VALUE=URI;X-ADDRESS=Texas Western Clubhouse 6808 Forest Hill Drive Forest Hill TX 76140 United States;X-APPLE-RADIUS=500;X-TITLE=6808 Forest Hill Drive:geo:-97.2703857,32.6557454
END:VEVENT
BEGIN:VEVENT
DTSTART;TZID=America/Chicago:20260108T190000
DTEND;TZID=America/Chicago:20260108T210000
DTSTAMP:20260423T120300
CREATED:20180529T125129Z
LAST-MODIFIED:20250806T231727Z
UID:17805-1767898800-1767906000@www.twmrc.org
SUMMARY:Texas Western Work Night
DESCRIPTION:The Texas Western Model Railroad Club is open to visitors\nThursday evening from 7:00 PM to 9:00 PM. Stop on by\nprospective members\, and just folks interested in checking\nus out. All guests are welcome! \nCome spend an evening with like-minded members and\ntake a walk around to see the progress we are making in\nbuilding our historic\, prototypical layout!
URL:https://www.twmrc.org/event/texas-western-work-night-2025-10-02-2025-10-09/2026-01-08/
LOCATION:Texas Western Clubhouse\, 6808 Forest Hill Drive\, Forest Hill\, TX\, 76140\, United States
CATEGORIES:Open House,Work Nights
ORGANIZER;CN="David Crumpton":MAILTO:ceo@twmrc.org
GEO:32.6557454;-97.2703857
X-APPLE-STRUCTURED-LOCATION;VALUE=URI;X-ADDRESS=Texas Western Clubhouse 6808 Forest Hill Drive Forest Hill TX 76140 United States;X-APPLE-RADIUS=500;X-TITLE=6808 Forest Hill Drive:geo:-97.2703857,32.6557454
END:VEVENT
BEGIN:VEVENT
DTSTART;TZID=America/Chicago:20251225T190000
DTEND;TZID=America/Chicago:20251225T210000
DTSTAMP:20260423T120300
CREATED:20180529T125129Z
LAST-MODIFIED:20250806T231727Z
UID:17773-1766689200-1766696400@www.twmrc.org
SUMMARY:Texas Western Work Night
DESCRIPTION:The Texas Western Model Railroad Club is open to visitors\nThursday evening from 7:00 PM to 9:00 PM. Stop on by\nprospective members\, and just folks interested in checking\nus out. All guests are welcome! \nCome spend an evening with like-minded members and\ntake a walk around to see the progress we are making in\nbuilding our historic\, prototypical layout!
URL:https://www.twmrc.org/event/texas-western-work-night-2025-10-02-2025-10-09/2025-12-25/
LOCATION:Texas Western Clubhouse\, 6808 Forest Hill Drive\, Forest Hill\, TX\, 76140\, United States
CATEGORIES:Open House,Work Nights
ORGANIZER;CN="David Crumpton":MAILTO:ceo@twmrc.org
GEO:32.6557454;-97.2703857
X-APPLE-STRUCTURED-LOCATION;VALUE=URI;X-ADDRESS=Texas Western Clubhouse 6808 Forest Hill Drive Forest Hill TX 76140 United States;X-APPLE-RADIUS=500;X-TITLE=6808 Forest Hill Drive:geo:-97.2703857,32.6557454
END:VEVENT
BEGIN:VEVENT
DTSTART;TZID=America/Chicago:20251218T190000
DTEND;TZID=America/Chicago:20251218T210000
DTSTAMP:20260423T120300
CREATED:20180529T125129Z
LAST-MODIFIED:20250806T231727Z
UID:17768-1766084400-1766091600@www.twmrc.org
SUMMARY:Texas Western Work Night
DESCRIPTION:The Texas Western Model Railroad Club is open to visitors\nThursday evening from 7:00 PM to 9:00 PM. Stop on by\nprospective members\, and just folks interested in checking\nus out. All guests are welcome! \nCome spend an evening with like-minded members and\ntake a walk around to see the progress we are making in\nbuilding our historic\, prototypical layout!
URL:https://www.twmrc.org/event/texas-western-work-night-2025-10-02-2025-10-09/2025-12-18/
LOCATION:Texas Western Clubhouse\, 6808 Forest Hill Drive\, Forest Hill\, TX\, 76140\, United States
CATEGORIES:Open House,Work Nights
ORGANIZER;CN="David Crumpton":MAILTO:ceo@twmrc.org
GEO:32.6557454;-97.2703857
X-APPLE-STRUCTURED-LOCATION;VALUE=URI;X-ADDRESS=Texas Western Clubhouse 6808 Forest Hill Drive Forest Hill TX 76140 United States;X-APPLE-RADIUS=500;X-TITLE=6808 Forest Hill Drive:geo:-97.2703857,32.6557454
END:VEVENT
BEGIN:VEVENT
DTSTART;TZID=America/Chicago:20251211T190000
DTEND;TZID=America/Chicago:20251211T210000
DTSTAMP:20260423T120300
CREATED:20180529T125129Z
LAST-MODIFIED:20250806T231727Z
UID:17766-1765479600-1765486800@www.twmrc.org
SUMMARY:Texas Western Work Night
DESCRIPTION:The Texas Western Model Railroad Club is open to visitors\nThursday evening from 7:00 PM to 9:00 PM. Stop on by\nprospective members\, and just folks interested in checking\nus out. All guests are welcome! \nCome spend an evening with like-minded members and\ntake a walk around to see the progress we are making in\nbuilding our historic\, prototypical layout!
URL:https://www.twmrc.org/event/texas-western-work-night-2025-10-02-2025-10-09/2025-12-11/
LOCATION:Texas Western Clubhouse\, 6808 Forest Hill Drive\, Forest Hill\, TX\, 76140\, United States
CATEGORIES:Open House,Work Nights
ORGANIZER;CN="David Crumpton":MAILTO:ceo@twmrc.org
GEO:32.6557454;-97.2703857
X-APPLE-STRUCTURED-LOCATION;VALUE=URI;X-ADDRESS=Texas Western Clubhouse 6808 Forest Hill Drive Forest Hill TX 76140 United States;X-APPLE-RADIUS=500;X-TITLE=6808 Forest Hill Drive:geo:-97.2703857,32.6557454
END:VEVENT
BEGIN:VEVENT
DTSTART;TZID=America/Chicago:20251127T190000
DTEND;TZID=America/Chicago:20251127T210000
DTSTAMP:20260423T120300
CREATED:20180529T125129Z
LAST-MODIFIED:20250806T231727Z
UID:17740-1764270000-1764277200@www.twmrc.org
SUMMARY:Texas Western Work Night
DESCRIPTION:The Texas Western Model Railroad Club is open to visitors\nThursday evening from 7:00 PM to 9:00 PM. Stop on by\nprospective members\, and just folks interested in checking\nus out. All guests are welcome! \nCome spend an evening with like-minded members and\ntake a walk around to see the progress we are making in\nbuilding our historic\, prototypical layout!
URL:https://www.twmrc.org/event/texas-western-work-night-2025-10-02-2025-10-09/2025-11-27/
LOCATION:Texas Western Clubhouse\, 6808 Forest Hill Drive\, Forest Hill\, TX\, 76140\, United States
CATEGORIES:Open House,Work Nights
ORGANIZER;CN="David Crumpton":MAILTO:ceo@twmrc.org
GEO:32.6557454;-97.2703857
X-APPLE-STRUCTURED-LOCATION;VALUE=URI;X-ADDRESS=Texas Western Clubhouse 6808 Forest Hill Drive Forest Hill TX 76140 United States;X-APPLE-RADIUS=500;X-TITLE=6808 Forest Hill Drive:geo:-97.2703857,32.6557454
END:VEVENT
BEGIN:VEVENT
DTSTART;TZID=America/Chicago:20251120T190000
DTEND;TZID=America/Chicago:20251120T210000
DTSTAMP:20260423T120300
CREATED:20180529T125129Z
LAST-MODIFIED:20250806T231727Z
UID:17739-1763665200-1763672400@www.twmrc.org
SUMMARY:Texas Western Work Night
DESCRIPTION:The Texas Western Model Railroad Club is open to visitors\nThursday evening from 7:00 PM to 9:00 PM. Stop on by\nprospective members\, and just folks interested in checking\nus out. All guests are welcome! \nCome spend an evening with like-minded members and\ntake a walk around to see the progress we are making in\nbuilding our historic\, prototypical layout!
URL:https://www.twmrc.org/event/texas-western-work-night-2025-10-02-2025-10-09/2025-11-20/
LOCATION:Texas Western Clubhouse\, 6808 Forest Hill Drive\, Forest Hill\, TX\, 76140\, United States
CATEGORIES:Open House,Work Nights
ORGANIZER;CN="David Crumpton":MAILTO:ceo@twmrc.org
GEO:32.6557454;-97.2703857
X-APPLE-STRUCTURED-LOCATION;VALUE=URI;X-ADDRESS=Texas Western Clubhouse 6808 Forest Hill Drive Forest Hill TX 76140 United States;X-APPLE-RADIUS=500;X-TITLE=6808 Forest Hill Drive:geo:-97.2703857,32.6557454
END:VEVENT
BEGIN:VEVENT
DTSTART;TZID=America/Chicago:20251113T190000
DTEND;TZID=America/Chicago:20251113T210000
DTSTAMP:20260423T120300
CREATED:20180529T125129Z
LAST-MODIFIED:20250806T231727Z
UID:17736-1763060400-1763067600@www.twmrc.org
SUMMARY:Texas Western Work Night
DESCRIPTION:The Texas Western Model Railroad Club is open to visitors\nThursday evening from 7:00 PM to 9:00 PM. Stop on by\nprospective members\, and just folks interested in checking\nus out. All guests are welcome! \nCome spend an evening with like-minded members and\ntake a walk around to see the progress we are making in\nbuilding our historic\, prototypical layout!
URL:https://www.twmrc.org/event/texas-western-work-night-2025-10-02-2025-10-09/2025-11-13/
LOCATION:Texas Western Clubhouse\, 6808 Forest Hill Drive\, Forest Hill\, TX\, 76140\, United States
CATEGORIES:Open House,Work Nights
ORGANIZER;CN="David Crumpton":MAILTO:ceo@twmrc.org
GEO:32.6557454;-97.2703857
X-APPLE-STRUCTURED-LOCATION;VALUE=URI;X-ADDRESS=Texas Western Clubhouse 6808 Forest Hill Drive Forest Hill TX 76140 United States;X-APPLE-RADIUS=500;X-TITLE=6808 Forest Hill Drive:geo:-97.2703857,32.6557454
END:VEVENT
BEGIN:VEVENT
DTSTART;TZID=America/Chicago:20251030T190000
DTEND;TZID=America/Chicago:20251030T210000
DTSTAMP:20260423T120300
CREATED:20180529T125129Z
LAST-MODIFIED:20250806T231727Z
UID:17730-1761850800-1761858000@www.twmrc.org
SUMMARY:Texas Western Work Night
DESCRIPTION:The Texas Western Model Railroad Club is open to visitors\nThursday evening from 7:00 PM to 9:00 PM. Stop on by\nprospective members\, and just folks interested in checking\nus out. All guests are welcome! \nCome spend an evening with like-minded members and\ntake a walk around to see the progress we are making in\nbuilding our historic\, prototypical layout!
URL:https://www.twmrc.org/event/texas-western-work-night-2025-10-02-2025-10-09/2025-10-30/
LOCATION:Texas Western Clubhouse\, 6808 Forest Hill Drive\, Forest Hill\, TX\, 76140\, United States
CATEGORIES:Open House,Work Nights
ORGANIZER;CN="David Crumpton":MAILTO:ceo@twmrc.org
GEO:32.6557454;-97.2703857
X-APPLE-STRUCTURED-LOCATION;VALUE=URI;X-ADDRESS=Texas Western Clubhouse 6808 Forest Hill Drive Forest Hill TX 76140 United States;X-APPLE-RADIUS=500;X-TITLE=6808 Forest Hill Drive:geo:-97.2703857,32.6557454
END:VEVENT
BEGIN:VEVENT
DTSTART;TZID=America/Chicago:20251023T190000
DTEND;TZID=America/Chicago:20251023T210000
DTSTAMP:20260423T120300
CREATED:20180529T125129Z
LAST-MODIFIED:20250806T231727Z
UID:17729-1761246000-1761253200@www.twmrc.org
SUMMARY:Texas Western Work Night
DESCRIPTION:The Texas Western Model Railroad Club is open to visitors\nThursday evening from 7:00 PM to 9:00 PM. Stop on by\nprospective members\, and just folks interested in checking\nus out. All guests are welcome! \nCome spend an evening with like-minded members and\ntake a walk around to see the progress we are making in\nbuilding our historic\, prototypical layout!
URL:https://www.twmrc.org/event/texas-western-work-night-2025-10-02-2025-10-09/2025-10-23/
LOCATION:Texas Western Clubhouse\, 6808 Forest Hill Drive\, Forest Hill\, TX\, 76140\, United States
CATEGORIES:Open House,Work Nights
ORGANIZER;CN="David Crumpton":MAILTO:ceo@twmrc.org
GEO:32.6557454;-97.2703857
X-APPLE-STRUCTURED-LOCATION;VALUE=URI;X-ADDRESS=Texas Western Clubhouse 6808 Forest Hill Drive Forest Hill TX 76140 United States;X-APPLE-RADIUS=500;X-TITLE=6808 Forest Hill Drive:geo:-97.2703857,32.6557454
END:VEVENT
BEGIN:VEVENT
DTSTART;TZID=America/Chicago:20251016T190000
DTEND;TZID=America/Chicago:20251016T210000
DTSTAMP:20260423T120300
CREATED:20180529T125129Z
LAST-MODIFIED:20250806T231727Z
UID:17728-1760641200-1760648400@www.twmrc.org
SUMMARY:Texas Western Work Night
DESCRIPTION:The Texas Western Model Railroad Club is open to visitors\nThursday evening from 7:00 PM to 9:00 PM. Stop on by\nprospective members\, and just folks interested in checking\nus out. All guests are welcome! \nCome spend an evening with like-minded members and\ntake a walk around to see the progress we are making in\nbuilding our historic\, prototypical layout!
URL:https://www.twmrc.org/event/texas-western-work-night-2025-10-02-2025-10-09/2025-10-16/
LOCATION:Texas Western Clubhouse\, 6808 Forest Hill Drive\, Forest Hill\, TX\, 76140\, United States
CATEGORIES:Open House,Work Nights
ORGANIZER;CN="David Crumpton":MAILTO:ceo@twmrc.org
GEO:32.6557454;-97.2703857
X-APPLE-STRUCTURED-LOCATION;VALUE=URI;X-ADDRESS=Texas Western Clubhouse 6808 Forest Hill Drive Forest Hill TX 76140 United States;X-APPLE-RADIUS=500;X-TITLE=6808 Forest Hill Drive:geo:-97.2703857,32.6557454
END:VEVENT
BEGIN:VEVENT
DTSTART;TZID=America/Chicago:20251009T190000
DTEND;TZID=America/Chicago:20251009T210000
DTSTAMP:20260423T120300
CREATED:20180529T125129Z
LAST-MODIFIED:20250806T231726Z
UID:17720-1760036400-1760043600@www.twmrc.org
SUMMARY:Texas Western Work Night
DESCRIPTION:The Texas Western Model Railroad Club is open to visitors\nThursday evening from 7:00 PM to 9:00 PM. Stop on by\nprospective members\, and just folks interested in checking\nus out. All guests are welcome! \nCome spend an evening with like-minded members and\ntake a walk around to see the progress we are making in\nbuilding our historic\, prototypical layout!
URL:https://www.twmrc.org/event/texas-western-work-night-2025-10-02-2025-10-09/2025-10-09/
LOCATION:Texas Western Clubhouse\, 6808 Forest Hill Drive\, Forest Hill\, TX\, 76140\, United States
CATEGORIES:Open House,Work Nights
ORGANIZER;CN="David Crumpton":MAILTO:ceo@twmrc.org
GEO:32.6557454;-97.2703857
X-APPLE-STRUCTURED-LOCATION;VALUE=URI;X-ADDRESS=Texas Western Clubhouse 6808 Forest Hill Drive Forest Hill TX 76140 United States;X-APPLE-RADIUS=500;X-TITLE=6808 Forest Hill Drive:geo:-97.2703857,32.6557454
END:VEVENT
END:VCALENDAR