BEGIN:VCALENDAR
VERSION:2.0
PRODID:-//Texas Western Model Railroad Club - ECPv6.15.20//NONSGML v1.0//EN
CALSCALE:GREGORIAN
METHOD:PUBLISH
X-ORIGINAL-URL:https://www.twmrc.org
X-WR-CALDESC:Events for Texas Western Model Railroad Club
REFRESH-INTERVAL;VALUE=DURATION:PT1H
X-Robots-Tag:noindex
X-PUBLISHED-TTL:PT1H
BEGIN:VTIMEZONE
TZID:America/Chicago
BEGIN:DAYLIGHT
TZOFFSETFROM:-0600
TZOFFSETTO:-0500
TZNAME:CDT
DTSTART:20250309T080000
END:DAYLIGHT
BEGIN:STANDARD
TZOFFSETFROM:-0500
TZOFFSETTO:-0600
TZNAME:CST
DTSTART:20251102T070000
END:STANDARD
BEGIN:DAYLIGHT
TZOFFSETFROM:-0600
TZOFFSETTO:-0500
TZNAME:CDT
DTSTART:20260308T080000
END:DAYLIGHT
BEGIN:STANDARD
TZOFFSETFROM:-0500
TZOFFSETTO:-0600
TZNAME:CST
DTSTART:20261101T070000
END:STANDARD
BEGIN:DAYLIGHT
TZOFFSETFROM:-0600
TZOFFSETTO:-0500
TZNAME:CDT
DTSTART:20270314T080000
END:DAYLIGHT
BEGIN:STANDARD
TZOFFSETFROM:-0500
TZOFFSETTO:-0600
TZNAME:CST
DTSTART:20271107T070000
END:STANDARD
BEGIN:DAYLIGHT
TZOFFSETFROM:-0600
TZOFFSETTO:-0500
TZNAME:CDT
DTSTART:20280312T080000
END:DAYLIGHT
BEGIN:STANDARD
TZOFFSETFROM:-0500
TZOFFSETTO:-0600
TZNAME:CST
DTSTART:20281105T070000
END:STANDARD
END:VTIMEZONE
BEGIN:VEVENT
DTSTART;TZID=America/Chicago:20260509T100000
DTEND;TZID=America/Chicago:20260509T130000
DTSTAMP:20260423T103419
CREATED:20240127T221335Z
LAST-MODIFIED:20240127T221335Z
UID:18573-1778320800-1778331600@www.twmrc.org
SUMMARY:NMRA Cowcatcher Div. 1 Meeting
DESCRIPTION:The NMRA Lonestar Region Cowcatcher Division 1 Meeting\nis held on the 2nd Saturday of the month\nfrom 10 AM to 1 PM.
URL:https://www.twmrc.org/event/nmra-cowcatcher-div-1-meeting/2026-05-09/
LOCATION:Texas Western Clubhouse\, 6808 Forest Hill Drive\, Forest Hill\, TX\, 76140\, United States
CATEGORIES:NMRA Cowcatcher Division 1 Meeting
ORGANIZER;CN="Dick Brannon":MAILTO:director@cowcatcherdivision.org
GEO:32.6557454;-97.2703857
X-APPLE-STRUCTURED-LOCATION;VALUE=URI;X-ADDRESS=Texas Western Clubhouse 6808 Forest Hill Drive Forest Hill TX 76140 United States;X-APPLE-RADIUS=500;X-TITLE=6808 Forest Hill Drive:geo:-97.2703857,32.6557454
END:VEVENT
BEGIN:VEVENT
DTSTART;TZID=America/Chicago:20260613T100000
DTEND;TZID=America/Chicago:20260613T130000
DTSTAMP:20260423T103419
CREATED:20240127T221335Z
LAST-MODIFIED:20240127T221335Z
UID:18574-1781344800-1781355600@www.twmrc.org
SUMMARY:NMRA Cowcatcher Div. 1 Meeting
DESCRIPTION:The NMRA Lonestar Region Cowcatcher Division 1 Meeting\nis held on the 2nd Saturday of the month\nfrom 10 AM to 1 PM.
URL:https://www.twmrc.org/event/nmra-cowcatcher-div-1-meeting/2026-06-13/
LOCATION:Texas Western Clubhouse\, 6808 Forest Hill Drive\, Forest Hill\, TX\, 76140\, United States
CATEGORIES:NMRA Cowcatcher Division 1 Meeting
ORGANIZER;CN="Dick Brannon":MAILTO:director@cowcatcherdivision.org
GEO:32.6557454;-97.2703857
X-APPLE-STRUCTURED-LOCATION;VALUE=URI;X-ADDRESS=Texas Western Clubhouse 6808 Forest Hill Drive Forest Hill TX 76140 United States;X-APPLE-RADIUS=500;X-TITLE=6808 Forest Hill Drive:geo:-97.2703857,32.6557454
END:VEVENT
BEGIN:VEVENT
DTSTART;TZID=America/Chicago:20260711T100000
DTEND;TZID=America/Chicago:20260711T130000
DTSTAMP:20260423T103419
CREATED:20240127T221335Z
LAST-MODIFIED:20240127T221335Z
UID:18575-1783764000-1783774800@www.twmrc.org
SUMMARY:NMRA Cowcatcher Div. 1 Meeting
DESCRIPTION:The NMRA Lonestar Region Cowcatcher Division 1 Meeting\nis held on the 2nd Saturday of the month\nfrom 10 AM to 1 PM.
URL:https://www.twmrc.org/event/nmra-cowcatcher-div-1-meeting/2026-07-11/
LOCATION:Texas Western Clubhouse\, 6808 Forest Hill Drive\, Forest Hill\, TX\, 76140\, United States
CATEGORIES:NMRA Cowcatcher Division 1 Meeting
ORGANIZER;CN="Dick Brannon":MAILTO:director@cowcatcherdivision.org
GEO:32.6557454;-97.2703857
X-APPLE-STRUCTURED-LOCATION;VALUE=URI;X-ADDRESS=Texas Western Clubhouse 6808 Forest Hill Drive Forest Hill TX 76140 United States;X-APPLE-RADIUS=500;X-TITLE=6808 Forest Hill Drive:geo:-97.2703857,32.6557454
END:VEVENT
BEGIN:VEVENT
DTSTART;TZID=America/Chicago:20260808T100000
DTEND;TZID=America/Chicago:20260808T130000
DTSTAMP:20260423T103419
CREATED:20240127T221335Z
LAST-MODIFIED:20240127T221335Z
UID:18576-1786183200-1786194000@www.twmrc.org
SUMMARY:NMRA Cowcatcher Div. 1 Meeting
DESCRIPTION:The NMRA Lonestar Region Cowcatcher Division 1 Meeting\nis held on the 2nd Saturday of the month\nfrom 10 AM to 1 PM.
URL:https://www.twmrc.org/event/nmra-cowcatcher-div-1-meeting/2026-08-08/
LOCATION:Texas Western Clubhouse\, 6808 Forest Hill Drive\, Forest Hill\, TX\, 76140\, United States
CATEGORIES:NMRA Cowcatcher Division 1 Meeting
ORGANIZER;CN="Dick Brannon":MAILTO:director@cowcatcherdivision.org
GEO:32.6557454;-97.2703857
X-APPLE-STRUCTURED-LOCATION;VALUE=URI;X-ADDRESS=Texas Western Clubhouse 6808 Forest Hill Drive Forest Hill TX 76140 United States;X-APPLE-RADIUS=500;X-TITLE=6808 Forest Hill Drive:geo:-97.2703857,32.6557454
END:VEVENT
BEGIN:VEVENT
DTSTART;TZID=America/Chicago:20260912T100000
DTEND;TZID=America/Chicago:20260912T130000
DTSTAMP:20260423T103419
CREATED:20240127T221335Z
LAST-MODIFIED:20240127T221335Z
UID:18577-1789207200-1789218000@www.twmrc.org
SUMMARY:NMRA Cowcatcher Div. 1 Meeting
DESCRIPTION:The NMRA Lonestar Region Cowcatcher Division 1 Meeting\nis held on the 2nd Saturday of the month\nfrom 10 AM to 1 PM.
URL:https://www.twmrc.org/event/nmra-cowcatcher-div-1-meeting/2026-09-12/
LOCATION:Texas Western Clubhouse\, 6808 Forest Hill Drive\, Forest Hill\, TX\, 76140\, United States
CATEGORIES:NMRA Cowcatcher Division 1 Meeting
ORGANIZER;CN="Dick Brannon":MAILTO:director@cowcatcherdivision.org
GEO:32.6557454;-97.2703857
X-APPLE-STRUCTURED-LOCATION;VALUE=URI;X-ADDRESS=Texas Western Clubhouse 6808 Forest Hill Drive Forest Hill TX 76140 United States;X-APPLE-RADIUS=500;X-TITLE=6808 Forest Hill Drive:geo:-97.2703857,32.6557454
END:VEVENT
BEGIN:VEVENT
DTSTART;TZID=America/Chicago:20261010T100000
DTEND;TZID=America/Chicago:20261010T130000
DTSTAMP:20260423T103419
CREATED:20240127T221335Z
LAST-MODIFIED:20240127T221335Z
UID:18578-1791626400-1791637200@www.twmrc.org
SUMMARY:NMRA Cowcatcher Div. 1 Meeting
DESCRIPTION:The NMRA Lonestar Region Cowcatcher Division 1 Meeting\nis held on the 2nd Saturday of the month\nfrom 10 AM to 1 PM.
URL:https://www.twmrc.org/event/nmra-cowcatcher-div-1-meeting/2026-10-10/
LOCATION:Texas Western Clubhouse\, 6808 Forest Hill Drive\, Forest Hill\, TX\, 76140\, United States
CATEGORIES:NMRA Cowcatcher Division 1 Meeting
ORGANIZER;CN="Dick Brannon":MAILTO:director@cowcatcherdivision.org
GEO:32.6557454;-97.2703857
X-APPLE-STRUCTURED-LOCATION;VALUE=URI;X-ADDRESS=Texas Western Clubhouse 6808 Forest Hill Drive Forest Hill TX 76140 United States;X-APPLE-RADIUS=500;X-TITLE=6808 Forest Hill Drive:geo:-97.2703857,32.6557454
END:VEVENT
BEGIN:VEVENT
DTSTART;TZID=America/Chicago:20261114T100000
DTEND;TZID=America/Chicago:20261114T130000
DTSTAMP:20260423T103419
CREATED:20240127T221335Z
LAST-MODIFIED:20240127T221335Z
UID:18579-1794650400-1794661200@www.twmrc.org
SUMMARY:NMRA Cowcatcher Div. 1 Meeting
DESCRIPTION:The NMRA Lonestar Region Cowcatcher Division 1 Meeting\nis held on the 2nd Saturday of the month\nfrom 10 AM to 1 PM.
URL:https://www.twmrc.org/event/nmra-cowcatcher-div-1-meeting/2026-11-14/
LOCATION:Texas Western Clubhouse\, 6808 Forest Hill Drive\, Forest Hill\, TX\, 76140\, United States
CATEGORIES:NMRA Cowcatcher Division 1 Meeting
ORGANIZER;CN="Dick Brannon":MAILTO:director@cowcatcherdivision.org
GEO:32.6557454;-97.2703857
X-APPLE-STRUCTURED-LOCATION;VALUE=URI;X-ADDRESS=Texas Western Clubhouse 6808 Forest Hill Drive Forest Hill TX 76140 United States;X-APPLE-RADIUS=500;X-TITLE=6808 Forest Hill Drive:geo:-97.2703857,32.6557454
END:VEVENT
BEGIN:VEVENT
DTSTART;TZID=America/Chicago:20261212T100000
DTEND;TZID=America/Chicago:20261212T130000
DTSTAMP:20260423T103419
CREATED:20240127T221335Z
LAST-MODIFIED:20240127T221335Z
UID:18580-1797069600-1797080400@www.twmrc.org
SUMMARY:NMRA Cowcatcher Div. 1 Meeting
DESCRIPTION:The NMRA Lonestar Region Cowcatcher Division 1 Meeting\nis held on the 2nd Saturday of the month\nfrom 10 AM to 1 PM.
URL:https://www.twmrc.org/event/nmra-cowcatcher-div-1-meeting/2026-12-12/
LOCATION:Texas Western Clubhouse\, 6808 Forest Hill Drive\, Forest Hill\, TX\, 76140\, United States
CATEGORIES:NMRA Cowcatcher Division 1 Meeting
ORGANIZER;CN="Dick Brannon":MAILTO:director@cowcatcherdivision.org
GEO:32.6557454;-97.2703857
X-APPLE-STRUCTURED-LOCATION;VALUE=URI;X-ADDRESS=Texas Western Clubhouse 6808 Forest Hill Drive Forest Hill TX 76140 United States;X-APPLE-RADIUS=500;X-TITLE=6808 Forest Hill Drive:geo:-97.2703857,32.6557454
END:VEVENT
BEGIN:VEVENT
DTSTART;TZID=America/Chicago:20270109T100000
DTEND;TZID=America/Chicago:20270109T130000
DTSTAMP:20260423T103419
CREATED:20240127T221335Z
LAST-MODIFIED:20240127T221335Z
UID:18581-1799488800-1799499600@www.twmrc.org
SUMMARY:NMRA Cowcatcher Div. 1 Meeting
DESCRIPTION:The NMRA Lonestar Region Cowcatcher Division 1 Meeting\nis held on the 2nd Saturday of the month\nfrom 10 AM to 1 PM.
URL:https://www.twmrc.org/event/nmra-cowcatcher-div-1-meeting/2027-01-09/
LOCATION:Texas Western Clubhouse\, 6808 Forest Hill Drive\, Forest Hill\, TX\, 76140\, United States
CATEGORIES:NMRA Cowcatcher Division 1 Meeting
ORGANIZER;CN="Dick Brannon":MAILTO:director@cowcatcherdivision.org
GEO:32.6557454;-97.2703857
X-APPLE-STRUCTURED-LOCATION;VALUE=URI;X-ADDRESS=Texas Western Clubhouse 6808 Forest Hill Drive Forest Hill TX 76140 United States;X-APPLE-RADIUS=500;X-TITLE=6808 Forest Hill Drive:geo:-97.2703857,32.6557454
END:VEVENT
BEGIN:VEVENT
DTSTART;TZID=America/Chicago:20270213T100000
DTEND;TZID=America/Chicago:20270213T130000
DTSTAMP:20260423T103419
CREATED:20240127T221335Z
LAST-MODIFIED:20240127T221335Z
UID:18839-1802512800-1802523600@www.twmrc.org
SUMMARY:NMRA Cowcatcher Div. 1 Meeting
DESCRIPTION:The NMRA Lonestar Region Cowcatcher Division 1 Meeting\nis held on the 2nd Saturday of the month\nfrom 10 AM to 1 PM.
URL:https://www.twmrc.org/event/nmra-cowcatcher-div-1-meeting/2027-02-13/
LOCATION:Texas Western Clubhouse\, 6808 Forest Hill Drive\, Forest Hill\, TX\, 76140\, United States
CATEGORIES:NMRA Cowcatcher Division 1 Meeting
ORGANIZER;CN="Dick Brannon":MAILTO:director@cowcatcherdivision.org
GEO:32.6557454;-97.2703857
X-APPLE-STRUCTURED-LOCATION;VALUE=URI;X-ADDRESS=Texas Western Clubhouse 6808 Forest Hill Drive Forest Hill TX 76140 United States;X-APPLE-RADIUS=500;X-TITLE=6808 Forest Hill Drive:geo:-97.2703857,32.6557454
END:VEVENT
BEGIN:VEVENT
DTSTART;TZID=America/Chicago:20270313T100000
DTEND;TZID=America/Chicago:20270313T130000
DTSTAMP:20260423T103419
CREATED:20240127T221335Z
LAST-MODIFIED:20240127T221335Z
UID:18911-1804932000-1804942800@www.twmrc.org
SUMMARY:NMRA Cowcatcher Div. 1 Meeting
DESCRIPTION:The NMRA Lonestar Region Cowcatcher Division 1 Meeting\nis held on the 2nd Saturday of the month\nfrom 10 AM to 1 PM.
URL:https://www.twmrc.org/event/nmra-cowcatcher-div-1-meeting/2027-03-13/
LOCATION:Texas Western Clubhouse\, 6808 Forest Hill Drive\, Forest Hill\, TX\, 76140\, United States
CATEGORIES:NMRA Cowcatcher Division 1 Meeting
ORGANIZER;CN="Dick Brannon":MAILTO:director@cowcatcherdivision.org
GEO:32.6557454;-97.2703857
X-APPLE-STRUCTURED-LOCATION;VALUE=URI;X-ADDRESS=Texas Western Clubhouse 6808 Forest Hill Drive Forest Hill TX 76140 United States;X-APPLE-RADIUS=500;X-TITLE=6808 Forest Hill Drive:geo:-97.2703857,32.6557454
END:VEVENT
BEGIN:VEVENT
DTSTART;TZID=America/Chicago:20270410T100000
DTEND;TZID=America/Chicago:20270410T130000
DTSTAMP:20260423T103419
CREATED:20240127T221335Z
LAST-MODIFIED:20240127T221335Z
UID:18940-1807351200-1807362000@www.twmrc.org
SUMMARY:NMRA Cowcatcher Div. 1 Meeting
DESCRIPTION:The NMRA Lonestar Region Cowcatcher Division 1 Meeting\nis held on the 2nd Saturday of the month\nfrom 10 AM to 1 PM.
URL:https://www.twmrc.org/event/nmra-cowcatcher-div-1-meeting/2027-04-10/
LOCATION:Texas Western Clubhouse\, 6808 Forest Hill Drive\, Forest Hill\, TX\, 76140\, United States
CATEGORIES:NMRA Cowcatcher Division 1 Meeting
ORGANIZER;CN="Dick Brannon":MAILTO:director@cowcatcherdivision.org
GEO:32.6557454;-97.2703857
X-APPLE-STRUCTURED-LOCATION;VALUE=URI;X-ADDRESS=Texas Western Clubhouse 6808 Forest Hill Drive Forest Hill TX 76140 United States;X-APPLE-RADIUS=500;X-TITLE=6808 Forest Hill Drive:geo:-97.2703857,32.6557454
END:VEVENT
BEGIN:VEVENT
DTSTART;TZID=America/Chicago:20270508T100000
DTEND;TZID=America/Chicago:20270508T130000
DTSTAMP:20260423T103419
CREATED:20240127T221335Z
LAST-MODIFIED:20240127T221335Z
UID:18966-1809770400-1809781200@www.twmrc.org
SUMMARY:NMRA Cowcatcher Div. 1 Meeting
DESCRIPTION:The NMRA Lonestar Region Cowcatcher Division 1 Meeting\nis held on the 2nd Saturday of the month\nfrom 10 AM to 1 PM.
URL:https://www.twmrc.org/event/nmra-cowcatcher-div-1-meeting/2027-05-08/
LOCATION:Texas Western Clubhouse\, 6808 Forest Hill Drive\, Forest Hill\, TX\, 76140\, United States
CATEGORIES:NMRA Cowcatcher Division 1 Meeting
ORGANIZER;CN="Dick Brannon":MAILTO:director@cowcatcherdivision.org
GEO:32.6557454;-97.2703857
X-APPLE-STRUCTURED-LOCATION;VALUE=URI;X-ADDRESS=Texas Western Clubhouse 6808 Forest Hill Drive Forest Hill TX 76140 United States;X-APPLE-RADIUS=500;X-TITLE=6808 Forest Hill Drive:geo:-97.2703857,32.6557454
END:VEVENT
END:VCALENDAR